BEGIN:VCALENDAR
VERSION:2.0
PRODID:-//Tukios.com/
BEGIN:VEVENT
UID:53f46217-e28e-4b2f-b32b-a820bfa8d0a2@www.scottsfh.com
DTSTAMP:20260422T030943Z
DTSTART:20260427
SUMMARY:Burial
DESCRIPTION:
URL:https://www.scottsfh.com/obituaries/samuel-mcdonald-jr
LOCATION:McDonald Family Cemetery FM 107  Gatesville TX 76528
GEO:31.4143623;-97.7092736
END:VEVENT
END:VCALENDAR