BEGIN:VCALENDAR
VERSION:2.0
PRODID:-//Tukios.com/
BEGIN:VEVENT
UID:6e7dab0b-573c-45e8-a2bb-693002bbdc82@www.scottsfh.com
DTSTAMP:20260422T031105Z
DTSTART:20260427T190000Z
DTEND:20260427T200000Z
SUMMARY:Funeral Service
DESCRIPTION:
URL:https://www.scottsfh.com/obituaries/samuel-mcdonald-jr
LOCATION: 113 FM 107  Gatesville TX 76528
GEO:31.41507;-97.7091177
END:VEVENT
END:VCALENDAR