BEGIN:VCALENDAR
VERSION:2.0
PRODID:-//Tukios.com/
BEGIN:VEVENT
UID:d5e3368e-db23-41bc-8506-aeb2dc6a6c0f@www.scottsfh.com
DTSTAMP:20260422T030809Z
DTSTART:20260427T180000Z
DTEND:20260427T190000Z
SUMMARY:Visitation
DESCRIPTION:
URL:https://www.scottsfh.com/obituaries/samuel-mcdonald-jr
LOCATION:Live Oak Baptist Church 113 FM 107  Gatesville TX 76528
GEO:31.41507;-97.7091177
END:VEVENT
END:VCALENDAR