BEGIN:VCALENDAR
VERSION:2.0
PRODID:-//Tukios.com/
BEGIN:VEVENT
UID:accb4054-42fe-483c-8651-1e2aea5c230d@www.scottsfh.com
DTSTAMP:20260420T081036Z
DTSTART:20260418T160000Z
DTEND:20260418T170000Z
SUMMARY:Funeral Service
DESCRIPTION:
URL:https://www.scottsfh.com/obituaries/lorene-jacobs
LOCATION:St. John Lutheran Church 10801 F.M. 929  Gatesville TX 76528
GEO:31.5496805;-97.6034743
END:VEVENT
END:VCALENDAR