BEGIN:VCALENDAR
VERSION:2.0
PRODID:-//Tukios.com/
BEGIN:VEVENT
UID:399901a7-747a-4b1c-bc67-8795b523a266@www.scottsfh.com
DTSTAMP:20260421T202551Z
DTSTART:20260424
SUMMARY:Interment
DESCRIPTION:
URL:https://www.scottsfh.com/obituaries/doris-nichols
LOCATION:Nichols Family Cemetery FM 929  Gatesville TX 76528
GEO:31.4774914;-97.7023473
END:VEVENT
END:VCALENDAR