BEGIN:VCALENDAR
VERSION:2.0
PRODID:-//Tukios.com/
BEGIN:VEVENT
UID:2b1a5cd1-b59e-4afd-8a7f-133ceb8be8fe@www.scottsfh.com
DTSTAMP:20260421T202340Z
DTSTART:20260424T150000Z
DTEND:20260424T160000Z
SUMMARY:Funeral Service
DESCRIPTION:
URL:https://www.scottsfh.com/obituaries/doris-nichols
LOCATION: 2425 E Main St  Gatesville TX 76528
GEO:31.4351565;-97.7283036
END:VEVENT
END:VCALENDAR