BEGIN:VCALENDAR
VERSION:2.0
PRODID:-//Tukios.com/
BEGIN:VEVENT
UID:dc9e3d5d-bb8e-4f08-a531-cf9617863690@www.scottsfh.com
DTSTAMP:20260421T203031Z
DTSTART:20260423T220000Z
DTEND:20260424T000000Z
SUMMARY:Visitation
DESCRIPTION:
URL:https://www.scottsfh.com/obituaries/doris-nichols
LOCATION: 2425 E Main St  Gatesville TX 76528
GEO:31.4351565;-97.7283036
END:VEVENT
END:VCALENDAR